BEGIN:VCALENDAR
VERSION:2.0
PRODID:-//wp-events-plugin.com//7.2.3.1//EN
TZID:Europe/Paris
X-WR-TIMEZONE:Europe/Paris
BEGIN:VEVENT
UID:14@amicale-laique-lentilly.fr
DTSTART;TZID=Europe/Paris:20250126T141500
DTEND;TZID=Europe/Paris:20250126T141500
DTSTAMP:20250122T204046Z
URL:https://www.amicale-laique-lentilly.fr/manifs/manif/gala-dhiver-2025/
SUMMARY:Gala d'hiver
DESCRIPTION:Pour voir le programme :\n\nUtilisez ce lien : https://online.
 fliphtml5.com/aipnw/huxz/\n\nOu scannez ce qrcode :\n\n
CATEGORIES:Gymnastique Rythmique
LOCATION:GYMNASE DANIEL REBILLARD\, Gymnase Daniel Rebillard\, Lentilly\, 6
 9210\, France
X-APPLE-STRUCTURED-LOCATION;VALUE=URI;X-ADDRESS=Gymnase Daniel Rebillard\, 
 Lentilly\, 69210\, France;X-APPLE-RADIUS=100;X-TITLE=GYMNASE DANIEL REBILL
 ARD:geo:0,0
END:VEVENT
BEGIN:VTIMEZONE
TZID:Europe/Paris
X-LIC-LOCATION:Europe/Paris
BEGIN:STANDARD
DTSTART:20241027T020000
TZOFFSETFROM:+0200
TZOFFSETTO:+0100
TZNAME:CET
END:STANDARD
END:VTIMEZONE
END:VCALENDAR