BEGIN:VCALENDAR
VERSION:2.0
PRODID:-//wp-events-plugin.com//7.2.3.1//EN
TZID:Europe/Paris
X-WR-TIMEZONE:Europe/Paris
BEGIN:VEVENT
UID:6@amicale-laique-lentilly.fr
DTSTART;TZID=Europe/Paris:20240609T143000
DTEND;TZID=Europe/Paris:20240609T170000
DTSTAMP:20240413T173333Z
URL:https://www.amicale-laique-lentilly.fr/manifs/manif/show-parkour/
SUMMARY:Show Parkour
DESCRIPTION:
CATEGORIES:Parkour
LOCATION:GYMNASE JACQUES CŒUR\, Gymnase Jacques Coeur\, Lentilly\, 69210\,
  France
X-APPLE-STRUCTURED-LOCATION;VALUE=URI;X-ADDRESS=Gymnase Jacques Coeur\, Len
 tilly\, 69210\, France;X-APPLE-RADIUS=100;X-TITLE=GYMNASE JACQUES CŒUR:ge
 o:0,0
END:VEVENT
BEGIN:VTIMEZONE
TZID:Europe/Paris
X-LIC-LOCATION:Europe/Paris
BEGIN:DAYLIGHT
DTSTART:20240331T030000
TZOFFSETFROM:+0100
TZOFFSETTO:+0200
TZNAME:CEST
END:DAYLIGHT
END:VTIMEZONE
END:VCALENDAR